Package: SharedObject Version: 1.19.1 Command: C:\Users\biocbuild\bbs-3.20-bioc\R\bin\R.exe CMD INSTALL SharedObject StartedAt: 2024-07-15 15:16:55 -0400 (Mon, 15 Jul 2024) EndedAt: 2024-07-15 15:18:03 -0400 (Mon, 15 Jul 2024) EllapsedTime: 68.1 seconds RetCode: 0 Status: OK