Package: SharedObject Version: 1.20.0 Command: /home/biocbuild/bbs-3.20-bioc/R/bin/R CMD check --install=check:SharedObject.install-out.txt --library=/home/biocbuild/bbs-3.20-bioc/R/site-library --timings SharedObject_1.20.0.tar.gz StartedAt: 2025-01-28 03:12:12 -0500 (Tue, 28 Jan 2025) EndedAt: 2025-01-28 03:13:34 -0500 (Tue, 28 Jan 2025) EllapsedTime: 82.1 seconds RetCode: 0 Status: WARNINGS CheckDir: SharedObject.Rcheck Warnings: 1