Package: SharedObject Version: 1.20.0 Command: /Library/Frameworks/R.framework/Resources/bin/R CMD INSTALL SharedObject StartedAt: 2025-02-03 15:13:59 -0500 (Mon, 03 Feb 2025) EndedAt: 2025-02-03 15:14:46 -0500 (Mon, 03 Feb 2025) EllapsedTime: 47.0 seconds RetCode: 0 Status: OK