Package: SharedObject Version: 1.20.0 Command: /Library/Frameworks/R.framework/Resources/bin/R CMD check --install=check:SharedObject.install-out.txt --library=/Library/Frameworks/R.framework/Resources/library --no-vignettes --timings SharedObject_1.20.0.tar.gz StartedAt: 2025-02-04 10:07:54 -0500 (Tue, 04 Feb 2025) EndedAt: 2025-02-04 10:10:17 -0500 (Tue, 04 Feb 2025) EllapsedTime: 143.3 seconds RetCode: 0 Status: WARNINGS CheckDir: SharedObject.Rcheck Warnings: 1