Package: SharedObject Version: 1.20.0 Command: /Library/Frameworks/R.framework/Resources/bin/R CMD check --install=check:SharedObject.install-out.txt --library=/Library/Frameworks/R.framework/Resources/library --no-vignettes --timings SharedObject_1.20.0.tar.gz StartedAt: 2025-04-02 08:42:33 -0400 (Wed, 02 Apr 2025) EndedAt: 2025-04-02 08:44:01 -0400 (Wed, 02 Apr 2025) EllapsedTime: 88.7 seconds RetCode: 0 Status: WARNINGS CheckDir: SharedObject.Rcheck Warnings: 1