Package: SharedObject Version: 1.20.0 Command: /Library/Frameworks/R.framework/Resources/bin/R CMD build --keep-empty-dirs --no-resave-data SharedObject StartedAt: 2025-04-01 07:44:22 -0400 (Tue, 01 Apr 2025) EndedAt: 2025-04-01 07:45:04 -0400 (Tue, 01 Apr 2025) EllapsedTime: 42.0 seconds RetCode: 0 Status: OK PackageFile: SharedObject_1.20.0.tar.gz PackageFileSize: 1.886 MiB