Package: SharedObject Version: 1.20.0 Command: rm -rf SharedObject.buildbin-libdir && mkdir SharedObject.buildbin-libdir && /Users/biocbuild/BBS/utils/build-universal.sh SharedObject_1.20.0.tar.gz /Library/Frameworks/R.framework/Resources/bin/R SharedObject.buildbin-libdir StartedAt: 2025-04-02 16:20:27 -0400 (Wed, 02 Apr 2025) EndedAt: 2025-04-02 16:21:04 -0400 (Wed, 02 Apr 2025) EllapsedTime: 36.9 seconds RetCode: 0 Status: OK PackageFile: SharedObject_1.20.0.tgz PackageFileSize: 1.979 MiB