Package: SeqSQC Version: 1.28.0 Command: /home/biocbuild/bbs-3.20-bioc/R/bin/R CMD check --install=check:SeqSQC.install-out.txt --library=/home/biocbuild/bbs-3.20-bioc/R/site-library --timings SeqSQC_1.28.0.tar.gz StartedAt: 2025-02-04 02:26:20 -0500 (Tue, 04 Feb 2025) EndedAt: 2025-02-04 02:29:27 -0500 (Tue, 04 Feb 2025) EllapsedTime: 187.2 seconds RetCode: 0 Status: WARNINGS CheckDir: SeqSQC.Rcheck Warnings: 1