Package: SeqSQC Version: 1.28.0 Command: /Library/Frameworks/R.framework/Resources/bin/R CMD check --install=check:SeqSQC.install-out.txt --library=/Library/Frameworks/R.framework/Resources/library --no-vignettes --timings SeqSQC_1.28.0.tar.gz StartedAt: 2025-01-28 10:13:16 -0500 (Tue, 28 Jan 2025) EndedAt: 2025-01-28 10:19:25 -0500 (Tue, 28 Jan 2025) EllapsedTime: 369.9 seconds RetCode: 0 Status: WARNINGS CheckDir: SeqSQC.Rcheck Warnings: 1