Package: SeqSQC Version: 1.28.0 Command: /Library/Frameworks/R.framework/Resources/bin/R CMD build --keep-empty-dirs --no-resave-data SeqSQC StartedAt: 2025-01-27 22:34:41 -0500 (Mon, 27 Jan 2025) EndedAt: 2025-01-27 22:36:39 -0500 (Mon, 27 Jan 2025) EllapsedTime: 118.2 seconds RetCode: 0 Status: OK PackageFile: SeqSQC_1.28.0.tar.gz PackageFileSize: 4.529 MiB