Package: SeqSQC Version: 1.28.0 Command: rm -rf SeqSQC.buildbin-libdir && mkdir SeqSQC.buildbin-libdir && /Users/biocbuild/BBS/utils/build-universal.sh SeqSQC_1.28.0.tar.gz /Library/Frameworks/R.framework/Resources/bin/R SeqSQC.buildbin-libdir StartedAt: 2025-04-01 12:45:48 -0400 (Tue, 01 Apr 2025) EndedAt: 2025-04-01 12:46:37 -0400 (Tue, 01 Apr 2025) EllapsedTime: 48.7 seconds RetCode: 0 Status: OK PackageFile: SeqSQC_1.28.0.tgz PackageFileSize: 4.847 MiB