Package: SeqGate Version: 1.16.0 Command: /home/biocbuild/R/R/bin/R CMD build --keep-empty-dirs --no-resave-data SeqGate StartedAt: 2025-02-04 02:56:38 -0000 (Tue, 04 Feb 2025) EndedAt: 2025-02-04 02:57:41 -0000 (Tue, 04 Feb 2025) EllapsedTime: 63.1 seconds RetCode: 0 Status: OK PackageFile: SeqGate_1.16.0.tar.gz PackageFileSize: 272.4 KiB