Package: SeqGSEA Version: 1.46.0 Command: /home/biocbuild/R/R/bin/R CMD check --install=check:SeqGSEA.install-out.txt --library=/home/biocbuild/R/R/site-library --no-vignettes --timings SeqGSEA_1.46.0.tar.gz StartedAt: 2025-04-01 10:38:15 -0000 (Tue, 01 Apr 2025) EndedAt: 2025-04-01 10:44:42 -0000 (Tue, 01 Apr 2025) EllapsedTime: 387.4 seconds RetCode: 0 Status: OK CheckDir: SeqGSEA.Rcheck Warnings: 0