Package: SeqGSEA Version: 1.46.0 Command: rm -rf SeqGSEA.buildbin-libdir && mkdir SeqGSEA.buildbin-libdir && F:\biocbuild\bbs-3.20-bioc\R\bin\R.exe CMD INSTALL --build --library=SeqGSEA.buildbin-libdir SeqGSEA_1.46.0.tar.gz StartedAt: 2025-01-28 09:08:11 -0500 (Tue, 28 Jan 2025) EndedAt: 2025-01-28 09:09:32 -0500 (Tue, 28 Jan 2025) EllapsedTime: 80.8 seconds RetCode: 0 Status: OK PackageFile: SeqGSEA_1.46.0.zip PackageFileSize: 1.575 MiB