Package: SeqGSEA Version: 1.46.0 Command: /Library/Frameworks/R.framework/Resources/bin/R CMD check --install=check:SeqGSEA.install-out.txt --library=/Library/Frameworks/R.framework/Resources/library --no-vignettes --timings SeqGSEA_1.46.0.tar.gz StartedAt: 2025-01-28 10:12:09 -0500 (Tue, 28 Jan 2025) EndedAt: 2025-01-28 10:24:03 -0500 (Tue, 28 Jan 2025) EllapsedTime: 713.8 seconds RetCode: 0 Status: OK CheckDir: SeqGSEA.Rcheck Warnings: 0