Package: SeqArray Version: 1.46.3 Command: /home/biocbuild/R/R/bin/R CMD build --keep-empty-dirs --no-resave-data SeqArray StartedAt: 2025-04-01 02:38:50 -0000 (Tue, 01 Apr 2025) EndedAt: 2025-04-01 02:41:17 -0000 (Tue, 01 Apr 2025) EllapsedTime: 147.2 seconds RetCode: 0 Status: OK PackageFile: SeqArray_1.46.3.tar.gz PackageFileSize: 3.214 MiB