Package: SeqArray Version: 1.46.3 Command: /home/biocbuild/bbs-3.20-bioc/R/bin/R CMD build --keep-empty-dirs --no-resave-data --md5 SeqArray StartedAt: 2025-03-31 19:05:55 -0400 (Mon, 31 Mar 2025) EndedAt: 2025-03-31 19:08:01 -0400 (Mon, 31 Mar 2025) EllapsedTime: 126.2 seconds RetCode: 0 Status: OK PackageFile: SeqArray_1.46.3.tar.gz PackageFileSize: 3.658 MiB