Package: SeqArray Version: 1.46.3 Command: rm -rf SeqArray.buildbin-libdir && mkdir SeqArray.buildbin-libdir && /Users/biocbuild/BBS/utils/build-universal.sh SeqArray_1.46.3.tar.gz /Library/Frameworks/R.framework/Resources/bin/R SeqArray.buildbin-libdir StartedAt: 2025-04-01 12:45:09 -0400 (Tue, 01 Apr 2025) EndedAt: 2025-04-01 12:46:42 -0400 (Tue, 01 Apr 2025) EllapsedTime: 92.9 seconds RetCode: 0 Status: OK PackageFile: SeqArray_1.46.3.tgz PackageFileSize: 4.172 MiB