Package: SemDist Version: 1.40.0 Command: chmod a+r SemDist -R && F:\biocbuild\bbs-3.20-bioc\R\bin\R.exe CMD build --keep-empty-dirs --no-resave-data SemDist StartedAt: 2025-02-03 22:04:54 -0500 (Mon, 03 Feb 2025) EndedAt: 2025-02-03 22:05:59 -0500 (Mon, 03 Feb 2025) EllapsedTime: 65.3 seconds RetCode: 0 Status: OK PackageFile: SemDist_1.40.0.tar.gz PackageFileSize: 1.859 MiB