Package: SemDist Version: 1.40.0 Command: /home/biocbuild/bbs-3.20-bioc/R/bin/R CMD INSTALL SemDist StartedAt: 2025-01-27 16:11:21 -0500 (Mon, 27 Jan 2025) EndedAt: 2025-01-27 16:11:36 -0500 (Mon, 27 Jan 2025) EllapsedTime: 14.7 seconds RetCode: 0 Status: OK