Package: SemDist Version: 1.40.0 Command: /home/biocbuild/bbs-3.20-bioc/R/bin/R CMD build --keep-empty-dirs --no-resave-data --md5 SemDist StartedAt: 2025-02-03 19:17:24 -0500 (Mon, 03 Feb 2025) EndedAt: 2025-02-03 19:17:56 -0500 (Mon, 03 Feb 2025) EllapsedTime: 32.1 seconds RetCode: 0 Status: OK PackageFile: SemDist_1.40.0.tar.gz PackageFileSize: 1.958 MiB