Package: SemDist Version: 1.40.0 Command: /home/biocbuild/R/R/bin/R CMD check --install=check:SemDist.install-out.txt --library=/home/biocbuild/R/R/site-library --no-vignettes --timings SemDist_1.40.0.tar.gz StartedAt: 2024-11-20 12:20:36 -0000 (Wed, 20 Nov 2024) EndedAt: 2024-11-20 12:23:35 -0000 (Wed, 20 Nov 2024) EllapsedTime: 179.3 seconds RetCode: 0 Status: OK CheckDir: SemDist.Rcheck Warnings: 0