Package: SemDist Version: 1.40.0 Command: /Library/Frameworks/R.framework/Resources/bin/R CMD INSTALL SemDist StartedAt: 2025-02-10 15:45:41 -0500 (Mon, 10 Feb 2025) EndedAt: 2025-02-10 15:45:58 -0500 (Mon, 10 Feb 2025) EllapsedTime: 16.9 seconds RetCode: 0 Status: OK