Package: SemDist Version: 1.40.0 Command: /Library/Frameworks/R.framework/Resources/bin/R CMD check --install=check:SemDist.install-out.txt --library=/Library/Frameworks/R.framework/Resources/library --no-vignettes --timings SemDist_1.40.0.tar.gz StartedAt: 2025-02-12 09:11:18 -0500 (Wed, 12 Feb 2025) EndedAt: 2025-02-12 09:14:24 -0500 (Wed, 12 Feb 2025) EllapsedTime: 185.3 seconds RetCode: 0 Status: OK CheckDir: SemDist.Rcheck Warnings: 0