Package: SemDist Version: 1.40.0 Command: /Library/Frameworks/R.framework/Resources/bin/R CMD build --keep-empty-dirs --no-resave-data SemDist StartedAt: 2025-02-11 07:57:57 -0500 (Tue, 11 Feb 2025) EndedAt: 2025-02-11 07:58:43 -0500 (Tue, 11 Feb 2025) EllapsedTime: 46.4 seconds RetCode: 0 Status: OK PackageFile: SemDist_1.40.0.tar.gz PackageFileSize: 1.953 MiB