Package: Sconify Version: 1.26.0 Command: /home/biocbuild/R/R/bin/R CMD INSTALL Sconify StartedAt: 2025-01-27 21:15:19 -0000 (Mon, 27 Jan 2025) EndedAt: 2025-01-27 21:15:31 -0000 (Mon, 27 Jan 2025) EllapsedTime: 11.6 seconds RetCode: 0 Status: OK