Package: Scale4C Version: 1.28.0 Command: /home/biocbuild/bbs-3.20-bioc/R/bin/R CMD check --install=check:Scale4C.install-out.txt --library=/home/biocbuild/bbs-3.20-bioc/R/site-library --timings Scale4C_1.28.0.tar.gz StartedAt: 2025-02-04 02:05:22 -0500 (Tue, 04 Feb 2025) EndedAt: 2025-02-04 02:09:24 -0500 (Tue, 04 Feb 2025) EllapsedTime: 242.3 seconds RetCode: 0 Status: OK CheckDir: Scale4C.Rcheck Warnings: 0