Package: Scale4C Version: 1.28.0 Command: /home/biocbuild/bbs-3.20-bioc/R/bin/R CMD build --keep-empty-dirs --no-resave-data --md5 Scale4C StartedAt: 2025-01-27 19:53:15 -0500 (Mon, 27 Jan 2025) EndedAt: 2025-01-27 19:54:50 -0500 (Mon, 27 Jan 2025) EllapsedTime: 95.1 seconds RetCode: 0 Status: OK PackageFile: Scale4C_1.28.0.tar.gz PackageFileSize: 4.902 MiB