Package: Scale4C Version: 1.28.0 Command: /Library/Frameworks/R.framework/Resources/bin/R CMD INSTALL Scale4C StartedAt: 2025-01-27 15:47:25 -0500 (Mon, 27 Jan 2025) EndedAt: 2025-01-27 15:48:32 -0500 (Mon, 27 Jan 2025) EllapsedTime: 66.7 seconds RetCode: 0 Status: OK