Package: Scale4C Version: 1.28.0 Command: rm -rf Scale4C.buildbin-libdir && mkdir Scale4C.buildbin-libdir && /Users/biocbuild/BBS/utils/build-universal.sh Scale4C_1.28.0.tar.gz /Library/Frameworks/R.framework/Resources/bin/R Scale4C.buildbin-libdir StartedAt: 2025-01-31 13:36:53 -0500 (Fri, 31 Jan 2025) EndedAt: 2025-01-31 13:38:02 -0500 (Fri, 31 Jan 2025) EllapsedTime: 69.2 seconds RetCode: 0 Status: OK PackageFile: Scale4C_1.28.0.tgz PackageFileSize: 2.141 MiB