Package: SamSPECTRAL Version: 1.60.0 Command: /home/biocbuild/R/R/bin/R CMD INSTALL SamSPECTRAL StartedAt: 2025-02-03 20:24:00 -0000 (Mon, 03 Feb 2025) EndedAt: 2025-02-03 20:24:26 -0000 (Mon, 03 Feb 2025) EllapsedTime: 25.6 seconds RetCode: 0 Status: OK