Package: SamSPECTRAL Version: 1.60.0 Command: /home/biocbuild/bbs-3.20-bioc/R/bin/R CMD check --install=check:SamSPECTRAL.install-out.txt --library=/home/biocbuild/bbs-3.20-bioc/R/site-library --timings SamSPECTRAL_1.60.0.tar.gz StartedAt: 2025-04-01 01:48:47 -0400 (Tue, 01 Apr 2025) EndedAt: 2025-04-01 01:50:02 -0400 (Tue, 01 Apr 2025) EllapsedTime: 75.1 seconds RetCode: 0 Status: WARNINGS CheckDir: SamSPECTRAL.Rcheck Warnings: 2