Package: SamSPECTRAL Version: 1.60.0 Maintainer: Habil MaintainerEmail: zare at u.washington.edu git_url: https://git.bioconductor.org/packages/SamSPECTRAL git_branch: RELEASE_3_20 git_last_commit: 1d113a8 git_last_commit_date: 2024-10-29 09:33:21 -0500 (Tue, 29 Oct 2024)