Package: SWATH2stats Version: 1.36.0 Command: /home/biocbuild/R/R/bin/R CMD build --keep-empty-dirs --no-resave-data SWATH2stats StartedAt: 2025-02-11 02:59:52 -0000 (Tue, 11 Feb 2025) EndedAt: 2025-02-11 03:00:45 -0000 (Tue, 11 Feb 2025) EllapsedTime: 53.0 seconds RetCode: 0 Status: OK PackageFile: SWATH2stats_1.36.0.tar.gz PackageFileSize: 3.015 MiB