Package: SWATH2stats Version: 1.36.0 Command: rm -rf SWATH2stats.buildbin-libdir && mkdir SWATH2stats.buildbin-libdir && F:\biocbuild\bbs-3.20-bioc\R\bin\R.exe CMD INSTALL --build --library=SWATH2stats.buildbin-libdir SWATH2stats_1.36.0.tar.gz StartedAt: 2025-02-04 09:38:20 -0500 (Tue, 04 Feb 2025) EndedAt: 2025-02-04 09:39:12 -0500 (Tue, 04 Feb 2025) EllapsedTime: 51.7 seconds RetCode: 0 Status: OK PackageFile: SWATH2stats_1.36.0.zip PackageFileSize: 3.062 MiB