Package: SWATH2stats Version: 1.36.0 Command: /home/biocbuild/bbs-3.20-bioc/R/bin/R CMD check --install=check:SWATH2stats.install-out.txt --library=/home/biocbuild/bbs-3.20-bioc/R/site-library --timings SWATH2stats_1.36.0.tar.gz StartedAt: 2025-02-04 03:02:56 -0500 (Tue, 04 Feb 2025) EndedAt: 2025-02-04 03:05:45 -0500 (Tue, 04 Feb 2025) EllapsedTime: 168.1 seconds RetCode: 0 Status: OK CheckDir: SWATH2stats.Rcheck Warnings: 0