Package: SWATH2stats Version: 1.36.0 Command: /Library/Frameworks/R.framework/Resources/bin/R CMD INSTALL SWATH2stats StartedAt: 2025-02-03 15:54:42 -0500 (Mon, 03 Feb 2025) EndedAt: 2025-02-03 15:55:20 -0500 (Mon, 03 Feb 2025) EllapsedTime: 37.9 seconds RetCode: 0 Status: OK