Package: SVMDO Version: 1.6.0 Command: /Library/Frameworks/R.framework/Resources/bin/R CMD INSTALL SVMDO StartedAt: 2025-03-31 16:21:59 -0400 (Mon, 31 Mar 2025) EndedAt: 2025-03-31 16:23:11 -0400 (Mon, 31 Mar 2025) EllapsedTime: 71.8 seconds RetCode: 0 Status: OK