Package: STdeconvolve Version: 1.10.0 Command: /home/biocbuild/R/R/bin/R CMD build --keep-empty-dirs --no-resave-data STdeconvolve StartedAt: 2025-04-01 02:59:43 -0000 (Tue, 01 Apr 2025) EndedAt: 2025-04-01 02:59:44 -0000 (Tue, 01 Apr 2025) EllapsedTime: 1.0 seconds RetCode: 1 Status: ERROR PackageFile: None PackageFileSize: NA