Package: STdeconvolve Version: 1.10.0 Command: F:\biocbuild\bbs-3.20-bioc\R\bin\R.exe CMD INSTALL STdeconvolve StartedAt: 2025-01-27 17:12:56 -0500 (Mon, 27 Jan 2025) EndedAt: 2025-01-27 17:12:57 -0500 (Mon, 27 Jan 2025) EllapsedTime: 0.4 seconds RetCode: 1 Status: ERROR