Package: STRINGdb Version: 2.18.0 Command: F:\biocbuild\bbs-3.20-bioc\R\bin\R.exe CMD INSTALL STRINGdb StartedAt: 2025-03-31 15:36:04 -0400 (Mon, 31 Mar 2025) EndedAt: 2025-03-31 15:36:31 -0400 (Mon, 31 Mar 2025) EllapsedTime: 26.9 seconds RetCode: 0 Status: OK