Package: STRINGdb Version: 2.18.0 Command: /home/biocbuild/bbs-3.20-bioc/R/bin/R CMD check --install=check:STRINGdb.install-out.txt --library=/home/biocbuild/bbs-3.20-bioc/R/site-library --timings STRINGdb_2.18.0.tar.gz StartedAt: 2025-04-01 02:42:44 -0400 (Tue, 01 Apr 2025) EndedAt: 2025-04-01 02:52:20 -0400 (Tue, 01 Apr 2025) EllapsedTime: 575.7 seconds RetCode: 0 Status: OK CheckDir: STRINGdb.Rcheck Warnings: 0