Package: STRINGdb Version: 2.18.0 Command: /Library/Frameworks/R.framework/Resources/bin/R CMD check --install=check:STRINGdb.install-out.txt --library=/Library/Frameworks/R.framework/Resources/library --no-vignettes --timings STRINGdb_2.18.0.tar.gz StartedAt: 2025-04-01 09:55:02 -0400 (Tue, 01 Apr 2025) EndedAt: 2025-04-01 10:02:26 -0400 (Tue, 01 Apr 2025) EllapsedTime: 443.7 seconds RetCode: 0 Status: OK CheckDir: STRINGdb.Rcheck Warnings: 0