Package: STRINGdb Version: 2.18.0 Command: /Library/Frameworks/R.framework/Resources/bin/R CMD build --keep-empty-dirs --no-resave-data STRINGdb StartedAt: 2025-03-31 22:24:35 -0400 (Mon, 31 Mar 2025) EndedAt: 2025-03-31 22:29:02 -0400 (Mon, 31 Mar 2025) EllapsedTime: 267.0 seconds RetCode: 0 Status: OK PackageFile: STRINGdb_2.18.0.tar.gz PackageFileSize: 9.948 MiB