Package: STRINGdb Version: 2.18.0 Command: rm -rf STRINGdb.buildbin-libdir && mkdir STRINGdb.buildbin-libdir && /Users/biocbuild/BBS/utils/build-universal.sh STRINGdb_2.18.0.tar.gz /Library/Frameworks/R.framework/Resources/bin/R STRINGdb.buildbin-libdir StartedAt: 2025-04-01 12:52:24 -0400 (Tue, 01 Apr 2025) EndedAt: 2025-04-01 12:52:39 -0400 (Tue, 01 Apr 2025) EllapsedTime: 15.2 seconds RetCode: 0 Status: OK PackageFile: STRINGdb_2.18.0.tgz PackageFileSize: 10.13 MiB