Package: STRINGdb Version: 2.18.0 Command: /home/biocbuild/R/R/bin/R CMD build --keep-empty-dirs --no-resave-data STRINGdb StartedAt: 2024-11-20 04:18:16 -0000 (Wed, 20 Nov 2024) EndedAt: 2024-11-20 04:23:19 -0000 (Wed, 20 Nov 2024) EllapsedTime: 302.4 seconds RetCode: 0 Status: OK PackageFile: STRINGdb_2.18.0.tar.gz PackageFileSize: 9.943 MiB