Package: STRINGdb Version: 2.18.0 Command: /Library/Frameworks/R.framework/Resources/bin/R CMD build --keep-empty-dirs --no-resave-data STRINGdb StartedAt: 2025-04-01 08:47:53 -0400 (Tue, 01 Apr 2025) EndedAt: 2025-04-01 08:51:39 -0400 (Tue, 01 Apr 2025) EllapsedTime: 226.2 seconds RetCode: 0 Status: OK PackageFile: STRINGdb_2.18.0.tar.gz PackageFileSize: 9.948 MiB