Package: STATegRa Version: 1.42.0 Command: rm -rf STATegRa.buildbin-libdir && mkdir STATegRa.buildbin-libdir && F:\biocbuild\bbs-3.20-bioc\R\bin\R.exe CMD INSTALL --build --library=STATegRa.buildbin-libdir STATegRa_1.42.0.tar.gz StartedAt: 2025-04-01 09:19:44 -0400 (Tue, 01 Apr 2025) EndedAt: 2025-04-01 09:20:51 -0400 (Tue, 01 Apr 2025) EllapsedTime: 66.2 seconds RetCode: 0 Status: OK PackageFile: STATegRa_1.42.0.zip PackageFileSize: 3.86 MiB