Package: SRAdb Version: 1.68.1 Command: /home/biocbuild/bbs-3.20-bioc/R/bin/R CMD check --install=check:SRAdb.install-out.txt --library=/home/biocbuild/bbs-3.20-bioc/R/site-library --timings SRAdb_1.68.1.tar.gz StartedAt: 2025-04-01 02:38:43 -0400 (Tue, 01 Apr 2025) EndedAt: 2025-04-01 02:39:14 -0400 (Tue, 01 Apr 2025) EllapsedTime: 31.0 seconds RetCode: 0 Status: OK CheckDir: SRAdb.Rcheck Warnings: 0