Package: SRAdb Version: 1.68.1 Command: /Library/Frameworks/R.framework/Resources/bin/R CMD INSTALL SRAdb StartedAt: 2025-01-27 15:29:23 -0500 (Mon, 27 Jan 2025) EndedAt: 2025-01-27 15:29:37 -0500 (Mon, 27 Jan 2025) EllapsedTime: 13.6 seconds RetCode: 0 Status: OK